BEGIN:VCALENDAR
VERSION:2.0
PRODID:-//GOALS - ECPv6.15.10//NONSGML v1.0//EN
CALSCALE:GREGORIAN
METHOD:PUBLISH
X-WR-CALNAME:GOALS
X-ORIGINAL-URL:https://goals-homeschool.org
X-WR-CALDESC:Events for GOALS
REFRESH-INTERVAL;VALUE=DURATION:PT1H
X-Robots-Tag:noindex
X-PUBLISHED-TTL:PT1H
BEGIN:VTIMEZONE
TZID:America/Detroit
BEGIN:DAYLIGHT
TZOFFSETFROM:-0500
TZOFFSETTO:-0400
TZNAME:EDT
DTSTART:20230312T070000
END:DAYLIGHT
BEGIN:STANDARD
TZOFFSETFROM:-0400
TZOFFSETTO:-0500
TZNAME:EST
DTSTART:20231105T060000
END:STANDARD
BEGIN:DAYLIGHT
TZOFFSETFROM:-0500
TZOFFSETTO:-0400
TZNAME:EDT
DTSTART:20240310T070000
END:DAYLIGHT
BEGIN:STANDARD
TZOFFSETFROM:-0400
TZOFFSETTO:-0500
TZNAME:EST
DTSTART:20241103T060000
END:STANDARD
BEGIN:DAYLIGHT
TZOFFSETFROM:-0500
TZOFFSETTO:-0400
TZNAME:EDT
DTSTART:20250309T070000
END:DAYLIGHT
BEGIN:STANDARD
TZOFFSETFROM:-0400
TZOFFSETTO:-0500
TZNAME:EST
DTSTART:20251102T060000
END:STANDARD
END:VTIMEZONE
BEGIN:VEVENT
DTSTART;VALUE=DATE:20241021
DTEND;VALUE=DATE:20241022
DTSTAMP:20260423T120933
CREATED:20240919T184720Z
LAST-MODIFIED:20240919T184720Z
UID:4882-1729468800-1729555199@goals-homeschool.org
SUMMARY:CLASS: Stacy L
DESCRIPTION:Classroom tutoring – 9am to 2pm. \nPlease contact Rachel T if you need to reschedule. \nThanks for supporting GOALS Homeschool!
URL:https://goals-homeschool.org/goals-event/vol-class-stacy-l-2024-1021/
CATEGORIES:Classroom Volunteer,VOLUNTEER
END:VEVENT
END:VCALENDAR